BEGIN:VCALENDAR
VERSION:2.0
PRODID:-//Arkesden Parish Council - ECPv6.15.18//NONSGML v1.0//EN
CALSCALE:GREGORIAN
METHOD:PUBLISH
X-WR-CALNAME:Arkesden Parish Council
X-ORIGINAL-URL:https://arkesdenvillage.com
X-WR-CALDESC:Events for Arkesden Parish Council
REFRESH-INTERVAL;VALUE=DURATION:PT1H
X-Robots-Tag:noindex
X-PUBLISHED-TTL:PT1H
BEGIN:VTIMEZONE
TZID:Europe/London
BEGIN:DAYLIGHT
TZOFFSETFROM:+0000
TZOFFSETTO:+0100
TZNAME:BST
DTSTART:20200329T010000
END:DAYLIGHT
BEGIN:STANDARD
TZOFFSETFROM:+0100
TZOFFSETTO:+0000
TZNAME:GMT
DTSTART:20201025T010000
END:STANDARD
BEGIN:DAYLIGHT
TZOFFSETFROM:+0000
TZOFFSETTO:+0100
TZNAME:BST
DTSTART:20210328T010000
END:DAYLIGHT
BEGIN:STANDARD
TZOFFSETFROM:+0100
TZOFFSETTO:+0000
TZNAME:GMT
DTSTART:20211031T010000
END:STANDARD
BEGIN:DAYLIGHT
TZOFFSETFROM:+0000
TZOFFSETTO:+0100
TZNAME:BST
DTSTART:20220327T010000
END:DAYLIGHT
BEGIN:STANDARD
TZOFFSETFROM:+0100
TZOFFSETTO:+0000
TZNAME:GMT
DTSTART:20221030T010000
END:STANDARD
END:VTIMEZONE
BEGIN:VEVENT
DTSTART;TZID=Europe/London:20210130T193000
DTEND;TZID=Europe/London:20210130T193000
DTSTAMP:20260420T021745
CREATED:20210118T112109Z
LAST-MODIFIED:20210118T112109Z
UID:105-1612035000-1612035000@arkesdenvillage.com
SUMMARY:Example Meeting
DESCRIPTION:In view of the COVID-19 restrictions the meeting will be held online. Please see the agenda (when available) for more details about the meeting.
URL:https://arkesdenvillage.com/event/example-meeting
LOCATION:Online
CATEGORIES:Parish Council Meeting
END:VEVENT
END:VCALENDAR